BEGIN:VCALENDAR
VERSION:2.0
PRODID:SchoolNow
CALSCALE:GREGORIAN
BEGIN:VEVENT
UID:d033ed30-7846-11f0-a48d-0a58a9feac02
DTSTAMP:20250813T130958Z
SUMMARY:CDD Board Meeting - Sept. 2026
LOCATION:Long Lake Reserve Amenity Center\, located at 19617 Breynia Dr.\, 
 Lutz\, FL 33558
URL;VALUE=URI:https://www.longlakecdd.org/calendar/8504195/cdd-board-meetin
 g-sept-2026
DTSTART:20260914T130000Z
DTEND:20260914T140000Z
END:VEVENT
END:VCALENDAR
