BEGIN:VCALENDAR
VERSION:2.0
PRODID:SchoolNow
CALSCALE:GREGORIAN
BEGIN:VEVENT
UID:709aada0-7846-11f0-bbf8-0a58a9feac02
DTSTAMP:20251201T215105Z
SUMMARY:CDD Board Meeting - Dec. 2025
LOCATION:Long Lake Reserve Amenity Center\, located at 19617 Breynia Dr.\, 
 Lutz\, FL 33558
URL;VALUE=URI:https://www.longlakecdd.org/calendar/8504186/cdd-board-meetin
 g-dec-2025
DTSTART:20251208T140000Z
DTEND:20251208T150000Z
ATTACH;FILENAME=2025-12-08 Long Lake Reserve CDD - Final Agenda.pdf;FMTTYPE
 =application/pdf:https://campussuite-storage.s3.amazonaws.com/prod/1558857
 /4a1a7d6c-ea95-11e9-bba8-0a20d2c7fac4/3045171/cfcd51b4-ceff-11f0-b240-02ea
 2a6aa5a3/file/2025-12-08 Long Lake Reserve CDD - Final Agenda.pdf
END:VEVENT
END:VCALENDAR
